Workbook

Sheet 入力用
A1: 備品貸出簿
B2: 管理部署 | E2: 担当者 | G2: 貸出中 | H2: =COUNTIF(I6:I28,"貸出中")+COUNTIF(I6:I28,"期限超過")&"件" -> 0件 | I2: うち期限超過 | J2: =COUNTIF(I6:I28,"期限超過")&"件" -> 0件
A4: 複数の備品の貸出・返却を1枚で記録。状況は返却日・返却予定日から自動表示（返却予定日を過ぎて未返却なら赤）。「備品一覧」シートに管理番号と備品名を貼り付けておくと、管理番号を▼から選ぶだけで備品名が入ります。
A5: No | B5: 貸出日 | C5: 管理番号 | D5: 備品名 | E5: 借用者・部署 | F5: 用途・持出先 | G5: 返却 予定日 | H5: 返却日 | I5: 状況 | J5: 貸出 確認 | K5: 返却 確認 | L5: 付属品・備考
A6: 1 | D6: =IF(C6="","",IFERROR(INDEX(備品一覧!$B$5:$B$204,MATCH(C6,備品一覧!$A$5:$A$204,0)),"一覧に未登録")) | I6: =IF(B6="","",IF(H6<>"","返却済",IF(AND(G6<>"",G6<TODAY()),"期限超過","貸出中")))
A7: 2 | D7: =IF(C7="","",IFERROR(INDEX(備品一覧!$B$5:$B$204,MATCH(C7,備品一覧!$A$5:$A$204,0)),"一覧に未登録")) | I7: =IF(B7="","",IF(H7<>"","返却済",IF(AND(G7<>"",G7<TODAY()),"期限超過","貸出中")))
A8: 3 | D8: =IF(C8="","",IFERROR(INDEX(備品一覧!$B$5:$B$204,MATCH(C8,備品一覧!$A$5:$A$204,0)),"一覧に未登録")) | I8: =IF(B8="","",IF(H8<>"","返却済",IF(AND(G8<>"",G8<TODAY()),"期限超過","貸出中")))
A9: 4 | D9: =IF(C9="","",IFERROR(INDEX(備品一覧!$B$5:$B$204,MATCH(C9,備品一覧!$A$5:$A$204,0)),"一覧に未登録")) | I9: =IF(B9="","",IF(H9<>"","返却済",IF(AND(G9<>"",G9<TODAY()),"期限超過","貸出中")))
A10: 5 | D10: =IF(C10="","",IFERROR(INDEX(備品一覧!$B$5:$B$204,MATCH(C10,備品一覧!$A$5:$A$204,0)),"一覧に未登録")) | I10: =IF(B10="","",IF(H10<>"","返却済",IF(AND(G10<>"",G10<TODAY()),"期限超過","貸出中")))
A11: 6 | D11: =IF(C11="","",IFERROR(INDEX(備品一覧!$B$5:$B$204,MATCH(C11,備品一覧!$A$5:$A$204,0)),"一覧に未登録")) | I11: =IF(B11="","",IF(H11<>"","返却済",IF(AND(G11<>"",G11<TODAY()),"期限超過","貸出中")))
A12: 7 | D12: =IF(C12="","",IFERROR(INDEX(備品一覧!$B$5:$B$204,MATCH(C12,備品一覧!$A$5:$A$204,0)),"一覧に未登録")) | I12: =IF(B12="","",IF(H12<>"","返却済",IF(AND(G12<>"",G12<TODAY()),"期限超過","貸出中")))
A13: 8 | D13: =IF(C13="","",IFERROR(INDEX(備品一覧!$B$5:$B$204,MATCH(C13,備品一覧!$A$5:$A$204,0)),"一覧に未登録")) | I13: =IF(B13="","",IF(H13<>"","返却済",IF(AND(G13<>"",G13<TODAY()),"期限超過","貸出中")))
A14: 9 | D14: =IF(C14="","",IFERROR(INDEX(備品一覧!$B$5:$B$204,MATCH(C14,備品一覧!$A$5:$A$204,0)),"一覧に未登録")) | I14: =IF(B14="","",IF(H14<>"","返却済",IF(AND(G14<>"",G14<TODAY()),"期限超過","貸出中")))
A15: 10 | D15: =IF(C15="","",IFERROR(INDEX(備品一覧!$B$5:$B$204,MATCH(C15,備品一覧!$A$5:$A$204,0)),"一覧に未登録")) | I15: =IF(B15="","",IF(H15<>"","返却済",IF(AND(G15<>"",G15<TODAY()),"期限超過","貸出中")))
A16: 11 | D16: =IF(C16="","",IFERROR(INDEX(備品一覧!$B$5:$B$204,MATCH(C16,備品一覧!$A$5:$A$204,0)),"一覧に未登録")) | I16: =IF(B16="","",IF(H16<>"","返却済",IF(AND(G16<>"",G16<TODAY()),"期限超過","貸出中")))
A17: 12 | D17: =IF(C17="","",IFERROR(INDEX(備品一覧!$B$5:$B$204,MATCH(C17,備品一覧!$A$5:$A$204,0)),"一覧に未登録")) | I17: =IF(B17="","",IF(H17<>"","返却済",IF(AND(G17<>"",G17<TODAY()),"期限超過","貸出中")))
... A28: 23 | D28: =IF(C28="","",IFERROR(INDEX(備品一覧!$B$5:$B$204,MATCH(C28,備品一覧!$A$5:$A$204,0)),"一覧に未登録")) | I28: =IF(B28="","",IF(H28<>"","返却済",IF(AND(G28<>"",G28<TODAY()),"期限超過","貸出中")))

Sheet 備品一覧
A1: 備品一覧（貸出簿の参照用）
A3: ①備品管理台帳から、貸し出す備品の管理番号・備品名を貼り付けてください（200件まで）。ここにある管理番号は貸出簿の▼から選べます。
A4: 管理番号 | B4: 備品名 | C4: 保管場所 | D4: 備考

Sheet 記入例
A1: 備品貸出簿（記入例）
B2: 管理部署 | C2: 総務部 | E2: 担当者 | F2: 総務 花子 | G2: 貸出中 | H2: =COUNTIF(I6:I35,"貸出中")+COUNTIF(I6:I35,"期限超過")&"件" -> 3件 | I2: うち期限超過 | J2: =COUNTIF(I6:I35,"期限超過")&"件" -> 1件
A3: 複数の備品の貸出・返却を1枚で記録。状況は返却日・返却予定日から自動表示（返却予定日を過ぎて未返却なら赤）。「備品一覧」シートに管理番号と備品名を貼り付けておくと、管理番号を▼から選ぶだけで備品名が入ります。
A5: No | B5: 貸出日 | C5: 管理番号 | D5: 備品名 | E5: 借用者・部署 | F5: 用途・持出先 | G5: 返却 予定日 | H5: 返却日 | I5: 状況 | J5: 貸出 確認 | K5: 返却 確認 | L5: 付属品・備考
A6: 1 | B6: 46296 | C6: PC-001 | D6: ノートPC | E6: 営業部 佐藤 | F6: 展示会（幕張） | G6: 46326 | I6: =IF(B6="","",IF(H6<>"","返却済",IF(AND(G6<>"",G6<TODAY()),"期限超過","貸出中"))) -> 貸出中 | J6: 総務 | L6: 充電器・マウス
A7: 2 | B7: 46301 | C7: PJ-002 | D7: プロジェクター | E7: 企画部 鈴木 | F7: 社外研修 | G7: 46303 | H7: 46303 | I7: =IF(B7="","",IF(H7<>"","返却済",IF(AND(G7<>"",G7<TODAY()),"期限超過","貸出中"))) -> 返却済 | J7: 総務 | K7: 総務 | L7: HDMIケーブル
A8: 3 | B8: 46309 | C8: CAM-001 | D8: デジタルカメラ | E8: 広報部 田中 | F8: 取材撮影 | G8: 46311 | I8: =IF(B8="","",IF(H8<>"","返却済",IF(AND(G8<>"",G8<TODAY()),"期限超過","貸出中"))) -> 期限超過 | J8: 総務 | L8: SDカード1枚・予備電池
A9: 4 | B9: 46315 | C9: WF-003 | D9: モバイルWi-Fi | E9: 営業部 高橋 | F9: 出張（大阪） | G9: 46318 | H9: 46318 | I9: =IF(B9="","",IF(H9<>"","返却済",IF(AND(G9<>"",G9<TODAY()),"期限超過","貸出中"))) -> 返却済 | J9: 総務 | K9: 総務 | L9: 充電器
A10: 5 | B10: 46317 | C10: PC-002 | D10: ノートPC | E10: 人事部 山本 | F10: 採用面接（オンライン） | G10: 46322 | I10: =IF(B10="","",IF(H10<>"","返却済",IF(AND(G10<>"",G10<TODAY()),"期限超過","貸出中"))) -> 貸出中 | J10: 総務
A11: 6 | I11: =IF(B11="","",IF(H11<>"","返却済",IF(AND(G11<>"",G11<TODAY()),"期限超過","貸出中")))
A12: 7 | I12: =IF(B12="","",IF(H12<>"","返却済",IF(AND(G12<>"",G12<TODAY()),"期限超過","貸出中")))
A13: 8 | I13: =IF(B13="","",IF(H13<>"","返却済",IF(AND(G13<>"",G13<TODAY()),"期限超過","貸出中")))
A14: 9 | I14: =IF(B14="","",IF(H14<>"","返却済",IF(AND(G14<>"",G14<TODAY()),"期限超過","貸出中")))
A15: 10 | I15: =IF(B15="","",IF(H15<>"","返却済",IF(AND(G15<>"",G15<TODAY()),"期限超過","貸出中")))
A16: 11 | I16: =IF(B16="","",IF(H16<>"","返却済",IF(AND(G16<>"",G16<TODAY()),"期限超過","貸出中")))
A17: 12 | I17: =IF(B17="","",IF(H17<>"","返却済",IF(AND(G17<>"",G17<TODAY()),"期限超過","貸出中")))
A18: 13 | I18: =IF(B18="","",IF(H18<>"","返却済",IF(AND(G18<>"",G18<TODAY()),"期限超過","貸出中")))
A19: 14 | I19: =IF(B19="","",IF(H19<>"","返却済",IF(AND(G19<>"",G19<TODAY()),"期限超過","貸出中")))
A20: 15 | I20: =IF(B20="","",IF(H20<>"","返却済",IF(AND(G20<>"",G20<TODAY()),"期限超過","貸出中")))
A21: 16 | I21: =IF(B21="","",IF(H21<>"","返却済",IF(AND(G21<>"",G21<TODAY()),"期限超過","貸出中")))
A22: 17 | I22: =IF(B22="","",IF(H22<>"","返却済",IF(AND(G22<>"",G22<TODAY()),"期限超過","貸出中")))
... A35: 30 | I35: =IF(B35="","",IF(H35<>"","返却済",IF(AND(G35<>"",G35<TODAY()),"期限超過","貸出中")))
